BEGIN:VCALENDAR
VERSION:2.0
PRODID:-//ChamberMaster//Event Calendar 2.0//EN
METHOD:PUBLISH
X-PUBLISHED-TTL:P3D
REFRESH-INTERVAL:P3D
CALSCALE:GREGORIAN
BEGIN:VEVENT
DTSTART:20191123T180000Z
DTEND:20191123T230000Z
X-MICROSOFT-CDO-ALLDAYEVENT:FALSE
SUMMARY:Restock Round-up
DESCRIPTION:Avamere at Wenatchee\, Blossom Creek\, Blossom Valley\, Fieldstone\, Highgate and RiverWest have come together to host a fundraiser to gather donations for the East Wenatchee Food Pantry.\n\nThe Food Pantry is in need to stock their shelves before the holiday season. We are accepting donations all month long at each of our buildings\, and on November 23rd we will have our buses parked in the East Wenatchee Grocery Outlet parking lot to accept donations for a bowl of chili. We would love to see you all come out and help support this amazing cause!!!
X-ALT-DESC;FMTTYPE=text/html:Avamere at Wenatchee\, Blossom Creek\, Blossom Valley\, Fieldstone\, Highgate and RiverWest have come together to host a fundraiser to gather donations for the East Wenatchee Food Pantry.<br />\nThe Food Pantry is in need to stock their shelves before the holiday season. We are accepting donations all month long at each of our buildings\, and on November 23rd we will have our buses parked in the East Wenatchee Grocery Outlet parking lot to accept donations for a bowl of chili. We would love to see you all come out and help support this amazing cause!!!
LOCATION:East Wenatchee Grocery parking lot @ 315 Valley Mall Parkway #315\, East Wenatchee\, WA
UID:e.289.7561
SEQUENCE:3
DTSTAMP:20260425T113905Z
URL:https://business.wenatchee.org/events/details/restock-round-up-7561
END:VEVENT

END:VCALENDAR
