BEGIN:VCALENDAR
VERSION:2.0
PRODID:-//ChamberMaster//Event Calendar 2.0//EN
METHOD:PUBLISH
X-PUBLISHED-TTL:P3D
REFRESH-INTERVAL:P3D
CALSCALE:GREGORIAN
BEGIN:VEVENT
DTSTART:20190622T010000Z
DTEND:20190622T070000Z
X-MICROSOFT-CDO-ALLDAYEVENT:FALSE
SUMMARY:Relay for Life of Chelan/Douglas
DESCRIPTION:Event Details\n\n\n\n\nRelay For Life is a grass roots\, community-based team event.\n\nAlthough every Relay For Life event is different\, they do have a few things in common.\n\n\n\n\n\n\nEvent Schedule\n\n\n\n\n\n\nOpening Ceremony\n\nTime to get started. We kick off the event by honoring everyone who's been affected by cancer and everyone who has contributed to the success of this year's Relay season.\n\n \n\nSurvivor/Caregiver Walk\n\nSurvivors and Caregivers are the heart and soul of Relay For Life events. We honor their strength and courage with every step they take. It doesn't matter if you were diagnosed 10 days ago or 10 years ago\, you can walk while everyone gathers together to cheer you on.\n\n \n\nLuminaria Ceremony\n\nDuring this ceremony we represent everyone touched by cancer with a Luminaria. Each light represents a life a life taken by cancer\, a survivor of cancer\, or a support for a person still fighting the disease. It's a powerful demonstration that gives people the opportunity to grieve but also offers comfort and hope.\n\n \n\nClosing Ceremony\n\nOur closing ceremony is the time to commit to take action and help lead the fight for a world free from cancer. It's a time to celebrate what we've accomplished together and a time to unify for the work that needs to be done moving forward.
X-ALT-DESC;FMTTYPE=text/html:<div class="cms-section container      cms-published" data-id="new" data-section="pageTitleTemplate" data-sorttype="page" style="box-sizing: border-box\; margin-top: 2rem\; padding-right: 15px\; padding-left: 15px\; margin-right: auto\; margin-left: auto\; font-family: &quot\;Source Sans Pro&quot\;\, HelveticaNeue-Light\, &quot\;Helvetica Neue Light&quot\;\, &quot\;Helvetica Neue&quot\;\, Helvetica\, Arial\, &quot\;Lucida Grande&quot\;\, sans-serif\; font-size: 14px\; max-width: 1170px !important\;">\n<h1 class="eu-only page-title" data-type="richtext" style="box-sizing: border-box\; margin: 20px 0px 10px\; font-size: 6rem\; font-weight: bold\; line-height: 6rem\; -webkit-font-smoothing: antialiased\; text-align: center\; color: rgb(30\, 30\, 35)\; letter-spacing: 0.025em\;">&nbsp\;</h1>\n\n<p style="box-sizing: border-box\; font-size: 6rem\; margin: 0px 0px 10px\; -webkit-font-smoothing: antialiased\; letter-spacing: 0.025em\; line-height: 6rem\;">Event Details</p>\n</div>\n\n<div class="cms-section container cms-published" data-id="new" data-section="simplePTemplate" data-sorttype="page" style="box-sizing: border-box\; margin-top: 2rem\; padding-right: 15px\; padding-left: 15px\; margin-right: auto\; margin-left: auto\; font-family: &quot\;Source Sans Pro&quot\;\, HelveticaNeue-Light\, &quot\;Helvetica Neue Light&quot\;\, &quot\;Helvetica Neue&quot\;\, Helvetica\, Arial\, &quot\;Lucida Grande&quot\;\, sans-serif\; font-size: 14px\; max-width: 1170px !important\;">\n<div class="eu-only row single-col text-center" data-type="richtext" style="box-sizing: border-box\; color: rgb(30\, 30\, 35)\; font-size: 1.8rem\; font-family: &quot\;Source Sans Pro&quot\;\; letter-spacing: 0.025em\; line-height: 2.7rem\; text-align: center\; margin-right: -15px\; margin-left: -15px\;">\n<p style="box-sizing: border-box\; font-size: 1.8rem\; margin: 0px 0px 10px\; -webkit-font-smoothing: antialiased\; letter-spacing: 0.025em\; line-height: 2.7rem\;">Relay For Life is a grass roots\, community-based team event.</p>\n\n<p style="box-sizing: border-box\; font-size: 1.8rem\; margin: 0px 0px 10px\; -webkit-font-smoothing: antialiased\; letter-spacing: 0.025em\; line-height: 2.7rem\;">Although every Relay For Life event is different\, they do have a few things in common.</p>\n</div>\n</div>\n\n<div class="cms-section   cms-published" data-id="new" data-section="headTemplate" data-sorttype="page" style="box-sizing: border-box\; margin-top: 2rem\; font-family: &quot\;Source Sans Pro&quot\;\, HelveticaNeue-Light\, &quot\;Helvetica Neue Light&quot\;\, &quot\;Helvetica Neue&quot\;\, Helvetica\, Arial\, &quot\;Lucida Grande&quot\;\, sans-serif\; font-size: 14px\;">\n<div class="cms-heading-section" style="box-sizing: border-box\; background: url(&quot\;/images/bracket_line.gif&quot\;) 0px 50% repeat-x\; font-size: 3rem\;">\n<div class="eu-only cms-heading" data-type="richtext" style="box-sizing: border-box\; background-image: initial\; background-position: initial\; background-size: initial\; background-repeat: initial\; background-attachment: initial\; background-origin: initial\; background-clip: initial\; display: table\; margin: 0px auto\; padding: 0px 2em\; position: relative\; text-align: center\; z-index: 5\; font-size: 3rem\; color: black\;">\n<p style="box-sizing: border-box\; font-size: 3rem\; margin: 0px\; -webkit-font-smoothing: antialiased\;">Event&nbsp\;<strong style="box-sizing: border-box\;">Schedule</strong></p>\n</div>\n</div>\n</div>\n\n<div class="cms-section container cms-published" data-id="new" data-section="simplePTemplate" data-sorttype="page" style="box-sizing: border-box\; margin-top: 2rem\; padding-right: 15px\; padding-left: 15px\; margin-right: auto\; margin-left: auto\; font-family: &quot\;Source Sans Pro&quot\;\, HelveticaNeue-Light\, &quot\;Helvetica Neue Light&quot\;\, &quot\;Helvetica Neue&quot\;\, Helvetica\, Arial\, &quot\;Lucida Grande&quot\;\, sans-serif\; font-size: 14px\; max-width: 1170px !important\;">\n<div class="eu-only row single-col text-center" data-type="richtext" style="box-sizing: border-box\; color: rgb(30\, 30\, 35)\; font-size: 1.8rem\; font-family: &quot\;Source Sans Pro&quot\;\; letter-spacing: 0.025em\; line-height: 2.7rem\; text-align: center\; margin-right: -15px\; margin-left: -15px\;">\n<h3 style="box-sizing: border-box\; font-family: &quot\;Source Sans Pro&quot\;\, HelveticaNeue-Light\, &quot\;Helvetica Neue Light&quot\;\, &quot\;Helvetica Neue&quot\;\, Helvetica\, Arial\, &quot\;Lucida Grande&quot\;\, sans-serif\; line-height: 1.1\; margin-top: 20px\; margin-bottom: 10px\; font-size: 24px\; -webkit-font-smoothing: antialiased\;"><strong style="box-sizing: border-box\;">Opening Ceremony</strong></h3>\n\n<p style="box-sizing: border-box\; font-size: 1.8rem\; margin: 0px 0px 10px\; -webkit-font-smoothing: antialiased\; letter-spacing: 0.025em\; line-height: 2.7rem\;">Time to get started. We kick off the event by honoring everyone who&#39\;s been affected by cancer and everyone who has contributed to the success of this year&#39\;s Relay season.</p>\n\n<p style="box-sizing: border-box\; font-size: 1.8rem\; margin: 0px 0px 10px\; -webkit-font-smoothing: antialiased\; letter-spacing: 0.025em\; line-height: 2.7rem\;">&nbsp\;</p>\n\n<h3 style="box-sizing: border-box\; font-family: &quot\;Source Sans Pro&quot\;\, HelveticaNeue-Light\, &quot\;Helvetica Neue Light&quot\;\, &quot\;Helvetica Neue&quot\;\, Helvetica\, Arial\, &quot\;Lucida Grande&quot\;\, sans-serif\; line-height: 1.1\; margin-top: 20px\; margin-bottom: 10px\; font-size: 24px\; -webkit-font-smoothing: antialiased\;"><strong style="box-sizing: border-box\;">Survivor/Caregiver Walk</strong></h3>\n\n<p style="box-sizing: border-box\; font-size: 1.8rem\; margin: 0px 0px 10px\; -webkit-font-smoothing: antialiased\; letter-spacing: 0.025em\; line-height: 2.7rem\;">Survivors and Caregivers are the heart and soul of Relay For Life events. We honor their strength and courage with every step they take. It doesn&#39\;t matter if you were diagnosed 10 days ago or 10 years ago\, you can walk while everyone gathers together to cheer you on.</p>\n\n<p style="box-sizing: border-box\; font-size: 1.8rem\; margin: 0px 0px 10px\; -webkit-font-smoothing: antialiased\; letter-spacing: 0.025em\; line-height: 2.7rem\;">&nbsp\;</p>\n\n<h3 style="box-sizing: border-box\; font-family: &quot\;Source Sans Pro&quot\;\, HelveticaNeue-Light\, &quot\;Helvetica Neue Light&quot\;\, &quot\;Helvetica Neue&quot\;\, Helvetica\, Arial\, &quot\;Lucida Grande&quot\;\, sans-serif\; line-height: 1.1\; margin-top: 20px\; margin-bottom: 10px\; font-size: 24px\; -webkit-font-smoothing: antialiased\;"><strong style="box-sizing: border-box\;">Luminaria Ceremony</strong></h3>\n\n<p style="box-sizing: border-box\; font-size: 1.8rem\; margin: 0px 0px 10px\; -webkit-font-smoothing: antialiased\; letter-spacing: 0.025em\; line-height: 2.7rem\;">During this ceremony we represent everyone touched by cancer with a Luminaria. Each light represents a life&mdash\;a life taken by cancer\, a survivor of cancer\, or a support for a person still fighting the disease. It&#39\;s a powerful demonstration that gives people the opportunity to grieve but also offers comfort and hope.</p>\n\n<p style="box-sizing: border-box\; font-size: 1.8rem\; margin: 0px 0px 10px\; -webkit-font-smoothing: antialiased\; letter-spacing: 0.025em\; line-height: 2.7rem\;">&nbsp\;</p>\n\n<h3 style="box-sizing: border-box\; font-family: &quot\;Source Sans Pro&quot\;\, HelveticaNeue-Light\, &quot\;Helvetica Neue Light&quot\;\, &quot\;Helvetica Neue&quot\;\, Helvetica\, Arial\, &quot\;Lucida Grande&quot\;\, sans-serif\; line-height: 1.1\; margin-top: 20px\; margin-bottom: 10px\; font-size: 24px\; -webkit-font-smoothing: antialiased\;"><strong style="box-sizing: border-box\;">Closing Ceremony</strong></h3>\n\n<p style="box-sizing: border-box\; font-size: 1.8rem\; margin: 0px 0px 10px\; -webkit-font-smoothing: antialiased\; letter-spacing: 0.025em\; line-height: 2.7rem\;">Our closing ceremony is the time to commit to take action and help lead the fight for a world free from cancer. It&#39\;s a time to celebrate what we&#39\;ve accomplished together and a time to unify for the work that needs to be done moving forward.</p>\n</div>\n</div>\n
LOCATION:Eastmont High School 955 3rd NE Street East Wenatchee
UID:e.289.7316
SEQUENCE:3
DTSTAMP:20260425T181958Z
URL:https://business.wenatchee.org/events/details/relay-for-life-of-chelan-douglas-7316
END:VEVENT

END:VCALENDAR
