BEGIN:VCALENDAR
VERSION:2.0
PRODID:-//ChamberMaster//Event Calendar 2.0//EN
METHOD:PUBLISH
X-PUBLISHED-TTL:P3D
REFRESH-INTERVAL:P3D
CALSCALE:GREGORIAN
BEGIN:VEVENT
DTSTART:20190530T020000Z
DTEND:20190530T031500Z
X-MICROSOFT-CDO-ALLDAYEVENT:FALSE
SUMMARY:Red Barn speaker event\, A History of Salmon Decline in the Columbia River\, Jason Lundgren
DESCRIPTION:On Wed.\, May 29thin the Wenatchee River Institute's Red Barn\, Cascade Columbia Fisheries Enhancement Group's (CCFEG) Executive Director Jason Lundgren\, will present A History of Salmon Decline in the Columbia River. Doors will open at 6:30pm for community social and no-host refreshments\, with the presentation beginning at 7pm. Human activities\, including salmon canneries operating along the Columbia during the last half of the 1800's and the construction of large dams during the 1900's\, as well as environmental factors such as climate change\, have all contributed to the massive decline in salmon populations. Lundgren's presentation will include a slideshow and offer ideas for how salmon in the Columbia River can be protected\, how to mitigate the fish's population loss and how healthy populations can be restored.
X-ALT-DESC;FMTTYPE=text/html:On Wed.\, May 29thin the Wenatchee River Institute&rsquo\;s Red Barn\, Cascade Columbia Fisheries Enhancement Group&rsquo\;s (CCFEG) Executive Director Jason Lundgren\, will present A History of Salmon Decline in the Columbia River. Doors will open at 6:30pm for community social and no-host refreshments\, with the presentation beginning at 7pm. Human activities\, including salmon canneries operating along the Columbia during the last half of the 1800&rsquo\;s and the construction of large dams during the 1900&rsquo\;s\, as well as environmental factors such as climate change\, have all contributed to the massive decline in salmon populations. Lundgren&rsquo\;s presentation will include a slideshow and offer ideas for how salmon in the Columbia River can be protected\, how to mitigate the fish&rsquo\;s population loss and how healthy populations can be restored.
LOCATION:Wenatchee River Institute's Red Barn 347 Division St. in Leavenworth
UID:e.289.7315
SEQUENCE:3
DTSTAMP:20260425T201156Z
URL:https://business.wenatchee.org/events/details/red-barn-speaker-event-a-history-of-salmon-decline-in-the-columbia-river-jason-lundgren-7315
END:VEVENT

END:VCALENDAR
