BEGIN:VCALENDAR
VERSION:2.0
PRODID:-//ChamberMaster//Event Calendar 2.0//EN
METHOD:PUBLISH
X-PUBLISHED-TTL:P3D
REFRESH-INTERVAL:P3D
CALSCALE:GREGORIAN
BEGIN:VEVENT
DTSTART:20190926T000000Z
DTEND:20190926T020000Z
X-MICROSOFT-CDO-ALLDAYEVENT:FALSE
SUMMARY:Real Options Clinic Ribbon Cutting and Open House
DESCRIPTION:Real Options of Wenatchee has moved into new offices and they are ready to share it with the community. Join them for a ribbon cutting celebration then self guided tours through their new space. Enjoy snacks and refreshments while you mingle with their staff and friends.
X-ALT-DESC;FMTTYPE=text/html:Real Options of Wenatchee has moved into new offices and they are ready to share it with the community. Join them for a ribbon cutting celebration then self guided tours through their new space. Enjoy snacks and refreshments while you mingle with their staff and friends.&nbsp\;&nbsp\;&nbsp\;&nbsp\;
LOCATION:351 Orondo Ave. Wenatchee\, WA 98801
UID:e.289.7419
SEQUENCE:3
DTSTAMP:20260425T134532Z
URL:https://business.wenatchee.org/events/details/real-options-clinic-ribbon-cutting-and-open-house-7419
END:VEVENT

END:VCALENDAR
