BEGIN:VCALENDAR
VERSION:2.0
PRODID:-//ChamberMaster//Event Calendar 2.0//EN
METHOD:PUBLISH
X-PUBLISHED-TTL:P3D
REFRESH-INTERVAL:P3D
CALSCALE:GREGORIAN
BEGIN:VEVENT
DTSTART:20190928T200000Z
DTEND:20190928T220000Z
X-MICROSOFT-CDO-ALLDAYEVENT:FALSE
SUMMARY:Quenching the Flame: Practical tools for Calming Inflammation
DESCRIPTION:Join us for a workshop led by Dr. Allegra Hart at Spiral's in Lake Chelan with tools to help support detoxification\, nutrients required to reduce inflammation\, and daily rituals to proactively manage inflammation from the inside out. All attendees will receive a Self-Care Starter Pack (Value $45) which includes Dr. Allegra's Book\, "Nourishing Space Within: Essentials of Self Care"\, organic castor oil with an organic cotton flannel\, and a dry skin brush. Followed by a live Q&A session. Contact Spirals at 509-682-2383 to register.
X-ALT-DESC;FMTTYPE=text/html:Join us for a workshop led by Dr. Allegra Hart at Spiral&#39\;s in Lake Chelan with tools to help support detoxification\, nutrients required to reduce inflammation\, and daily rituals to proactively manage inflammation from the inside out. All attendees will receive a Self-Care Starter Pack (Value $45) which includes Dr. Allegra&#39\;s Book\, &quot\;Nourishing Space Within: Essentials of Self Care&quot\;\, organic castor oil with an organic cotton flannel\, and a dry skin brush. Followed by a live Q&amp\;A session. Contact Spirals at 509-682-2383 to register.
LOCATION:Spirals of Joy 215 E. Woodin Ave. Chelan\, WA
UID:e.289.7417
SEQUENCE:3
DTSTAMP:20260425T133222Z
URL:https://business.wenatchee.org/events/details/quenching-the-flame-practical-tools-for-calming-inflammation-7417
END:VEVENT

END:VCALENDAR
