BEGIN:VCALENDAR
VERSION:2.0
PRODID:-//ChamberMaster//Event Calendar 2.0//EN
METHOD:PUBLISH
X-PUBLISHED-TTL:P3D
REFRESH-INTERVAL:P3D
CALSCALE:GREGORIAN
BEGIN:VEVENT
DTSTART:20231102T150000Z
DTEND:20231104T000000Z
X-MICROSOFT-CDO-ALLDAYEVENT:FALSE
SUMMARY:Professional Mediation Training
DESCRIPTION:5-day Professional Mediation Training. October 25th-27th and November 2nd-3rd. 8am-5pm\, 40-hour comprehensive mediation training for personal and professional development. Educator clock hours available. The first step on the path to serving your community as a DRC certified mediator. Cost $500 Registration OPEN
X-ALT-DESC;FMTTYPE=text/html:5-day Professional Mediation Training. October 25th-27th and November 2nd-3rd. 8am-5pm\, 40-hour comprehensive mediation training for personal and professional development. Educator clock hours available. The first step on the path to serving your community as a DRC certified mediator. Cost $500 Registration OPEN
LOCATION:Wenatchee Valley Dispute Resolution Center (WVDRC) 5 South Wenatchee Avenue\, Suite 210 Wenatchee\, WA 98801
UID:e.289.8622
SEQUENCE:3
DTSTAMP:20260420T075802Z
URL:https://business.wenatchee.org/events/details/professional-mediation-training-11-02-2023-8622
END:VEVENT

END:VCALENDAR
