BEGIN:VCALENDAR
VERSION:2.0
PRODID:-//ChamberMaster//Event Calendar 2.0//EN
METHOD:PUBLISH
X-PUBLISHED-TTL:P3D
REFRESH-INTERVAL:P3D
CALSCALE:GREGORIAN
BEGIN:VEVENT
DTSTART:20190207T170000Z
DTEND:20190208T000000Z
X-MICROSOFT-CDO-ALLDAYEVENT:FALSE
SUMMARY:Professional Development Summit
DESCRIPTION:Soft skills and customer service are increasingly becoming the hard skills of today's workforce. Learn from local leaders at the 2019 summit\, sharpen your personal skills\, and gain valuable tools and techniques to take your companys customer service to the next level. Featuring Andy Vargo: Own your awkward! That is what Andy Vargo challenges each of us to do. \n\n	9am-11:30am Summit Sessions\n	11:30am-12:30pm  Keynote speaker: Andy Vargo comedian\,motivational speaker and author\n	12:45pm-2:30pm Summit Sessions\n	2:35pm-4pm- Networking Social presented by Wenatchee Valley College Foundation
X-ALT-DESC;FMTTYPE=text/html:Soft skills and customer service are increasingly becoming the hard skills of today&#39\;s workforce. Learn from local leaders at the 2019 summit\, sharpen your personal skills\, and gain valuable tools and techniques to take your companys customer service to the next level. Featuring Andy Vargo: Own your awkward! That is what Andy Vargo challenges each of us to do.&nbsp\;\n<ul>\n	<li>9am-11:30am Summit Sessions</li>\n	<li>11:30am-12:30pm&nbsp\; Keynote speaker: Andy Vargo comedian\,motivational speaker and author</li>\n	<li>12:45pm-2:30pm Summit Sessions</li>\n	<li>2:35pm-4pm- Networking Social presented by Wenatchee Valley College Foundation</li>\n</ul>\n
LOCATION:Confluence Technology Center
UID:e.289.6976
SEQUENCE:3
DTSTAMP:20260426T025225Z
URL:https://business.wenatchee.org/events/details/professional-development-summit-02-07-2019-6976
END:VEVENT

END:VCALENDAR
