BEGIN:VCALENDAR
VERSION:2.0
PRODID:-//ChamberMaster//Event Calendar 2.0//EN
METHOD:PUBLISH
X-PUBLISHED-TTL:P3D
REFRESH-INTERVAL:P3D
CALSCALE:GREGORIAN
BEGIN:VEVENT
DTSTART:20191018T003000Z
DTEND:20191018T020000Z
X-MICROSOFT-CDO-ALLDAYEVENT:FALSE
SUMMARY:Princess Cruises Night
DESCRIPTION:October is Princess Month at AAA! Join us as we share some of the new and enriching experiences offered by Princess Cruises . Learn how Princess brings on board the colors\, cultures and flavors of the regions you visit\, so you see the world in a whole new way. We'll also talk about promotional offers and the advantages of booking with AAA: experienced travel agents\, reduced deposits\, on-board spending credits and other exclusive AAA offers!
X-ALT-DESC;FMTTYPE=text/html:October is Princess Month at AAA! Join us as we share some of the new and enriching experiences offered by Princess Cruises&reg\;. Learn how Princess brings on board the colors\, cultures and flavors of the regions you visit\, so you see the world in a whole new way. We&#39\;ll also talk about promotional offers and the advantages of booking with AAA: experienced travel agents\, reduced deposits\, on-board spending credits and other exclusive AAA offers!
LOCATION:AAA Wenatchee Store 221 N Mission St. Wenatchee\, WA 98801
UID:e.289.7094
SEQUENCE:3
DTSTAMP:20260425T120234Z
URL:https://business.wenatchee.org/events/details/princess-cruises-night-7094
END:VEVENT

END:VCALENDAR
