BEGIN:VCALENDAR
VERSION:2.0
PRODID:-//ChamberMaster//Event Calendar 2.0//EN
METHOD:PUBLISH
X-PUBLISHED-TTL:P3D
REFRESH-INTERVAL:P3D
CALSCALE:GREGORIAN
BEGIN:VEVENT
DTSTART:20190718T230000Z
DTEND:20190719T010000Z
X-MICROSOFT-CDO-ALLDAYEVENT:FALSE
SUMMARY:PrimeLending Ribbon Cutting & Open House
DESCRIPTION:Join us in celebration of the grand opening of Prime Lending's Wenatchee office. Located in the CTC we will start with a Ribbon Cutting in their office\, Suite 142 followed by a social in the Indoor Patio. Enjoy a taco bar from La Fuente along with hosted beverages\, music and giveaways.
X-ALT-DESC;FMTTYPE=text/html:<span style="color: rgb(29\, 33\, 41)\; font-family: Helvetica\, Arial\, sans-serif\; font-size: 14px\; white-space: pre-wrap\; background-color: rgb(255\, 255\, 255)\;">Join us in celebration of the grand opening of Prime Lending&rsquo\;s Wenatchee office. Located in the CTC we will start with a Ribbon Cutting in their office\, Suite 142 followed by a social in the Indoor Patio. Enjoy a taco bar from La Fuente along with hosted beverages\, music and giveaways. </span>
LOCATION:CTC Building\, Suite 142 285 Technology Center Way Wenatchee
UID:e.289.7350
SEQUENCE:3
DTSTAMP:20260425T163843Z
URL:https://business.wenatchee.org/events/details/primelending-ribbon-cutting-open-house-7350
END:VEVENT

END:VCALENDAR
