BEGIN:VCALENDAR
VERSION:2.0
PRODID:-//ChamberMaster//Event Calendar 2.0//EN
METHOD:PUBLISH
X-PUBLISHED-TTL:P3D
REFRESH-INTERVAL:P3D
CALSCALE:GREGORIAN
BEGIN:VEVENT
DTSTART:20191023T010000Z
DTEND:20191023T030000Z
X-MICROSOFT-CDO-ALLDAYEVENT:FALSE
SUMMARY:Practical Tools for Calming Inflammation
DESCRIPTION:Learn why inflammation is the #1 killer in our modern world and what you can do about it. Join Dr. Allegra Hart to find the keys you need to address inflammation at its source. We will explore tools to help support detoxification\, nutrients required to reduce inflammation\, what foods increase and decrease inflammation\, how to choose the best supplements\, and daily rituals to proactively manage inflammation from the inside out. We will finish with a Q&A session.
X-ALT-DESC;FMTTYPE=text/html:Learn why inflammation is the #1 killer in our modern world and what you can do about it. Join Dr. Allegra Hart to find the keys you need to address inflammation at its source. We will explore tools to help support detoxification\, nutrients required to reduce inflammation\, what foods increase and decrease inflammation\, how to choose the best supplements\, and daily rituals to proactively manage inflammation from the inside out. We will finish with a Q&amp\;A session.
LOCATION:Wenatchee Valley College Sexton Hall\, Room 6017
UID:e.289.7416
SEQUENCE:3
DTSTAMP:20260425T131953Z
URL:https://business.wenatchee.org/events/details/practical-tools-for-calming-inflammation-7416
END:VEVENT

END:VCALENDAR
