BEGIN:VCALENDAR
VERSION:2.0
PRODID:-//ChamberMaster//Event Calendar 2.0//EN
METHOD:PUBLISH
X-PUBLISHED-TTL:P3D
REFRESH-INTERVAL:P3D
CALSCALE:GREGORIAN
BEGIN:VEVENT
DTSTART:20200522T190000Z
DTEND:20200522T200000Z
X-MICROSOFT-CDO-ALLDAYEVENT:FALSE
SUMMARY:PPP Loan Forgiveness
DESCRIPTION:Cordell\, Neher & Company is hosting a free webinar for: Small businesses\, self-employed and independent contractors.\n\nCdordell\, Neher &  Company\, PLLC will provide and update on Paycheck Protections Program loans with a more in depth discussion on the loan forgiveness provisions. We will also provide a simple 13-week cash flow anaylsis & PPP expense tracking worksheet. Presented by Kyle Meissner and Charlie Miracle\, CPA's.
X-ALT-DESC;FMTTYPE=text/html:Cordell\, Neher &amp\; Company is hosting a free webinar for: Small businesses\, self-employed and independent contractors.<br />\nCdordell\, Neher &amp\;&nbsp\; Company\, PLLC will provide and update on Paycheck Protections Program loans with a more in depth discussion on the loan forgiveness provisions. We will also provide a simple 13-week cash flow anaylsis &amp\; PPP expense tracking worksheet. Presented by Kyle Meissner and Charlie Miracle\, CPA&#39\;s.
LOCATION:Registration required: https://www.facebook.com/events/243442750237991/
UID:e.289.7718
SEQUENCE:3
DTSTAMP:20260425T000120Z
URL:https://business.wenatchee.org/events/details/ppp-loan-forgiveness-7718
END:VEVENT

END:VCALENDAR
