BEGIN:VCALENDAR
VERSION:2.0
PRODID:-//ChamberMaster//Event Calendar 2.0//EN
METHOD:PUBLISH
X-PUBLISHED-TTL:P3D
REFRESH-INTERVAL:P3D
CALSCALE:GREGORIAN
BEGIN:VEVENT
DTSTART:20200709T010000Z
DTEND:20200709T020000Z
X-MICROSOFT-CDO-ALLDAYEVENT:FALSE
SUMMARY:Paw and Paint
DESCRIPTION:Join Wenatchee Valley Humane Society and Class With a Glass for a night of painting\, fun and pets! This virtual event features a special painting designed just for pet lovers\, taught live via Zoom by Class With a Glass owner\, Nancy Barrett. Whether a beginning painter\, hobbyist\, or artist\, Nancy will successfully walk you through creating your own masterpiece! Cost is just $24.99 per person and 50% of proceeded will be donated to care for homeless animals at Wenatchee Valley Humane Society. Don't have paint supplies at home but want to participate? We have a limited supply of art kits available\, specifically for this class. Just add one when you register and we will arrange curbside pick up at Class with a Glass in downtown Wenatchee! Join us online\, via Zoom\, July 8th at 6 p.m. for this creative evening to support the animals! **The class Zoom link will be emailed to the day before the event.
X-ALT-DESC;FMTTYPE=text/html:Join Wenatchee Valley Humane Society and Class With a Glass for a night of painting\, fun and pets! This virtual event features a special painting designed just for pet lovers\, taught live via Zoom by Class With a Glass owner\, Nancy Barrett. Whether a beginning painter\, hobbyist\, or artist\, Nancy will successfully walk you through creating your own masterpiece! Cost is just $24.99 per person and 50% of proceeded will be donated to care for homeless animals at Wenatchee Valley Humane Society. Don&rsquo\;t have paint supplies at home but want to participate? We have a limited supply of art kits available\, specifically for this class. Just add one when you register and we will arrange curbside pick up at Class with a Glass in downtown Wenatchee! Join us online\, via Zoom\, July 8th at 6 p.m. for this creative evening to support the animals! **The class Zoom link will be emailed to the day before the event.
LOCATION:Online Zoom Event
UID:e.289.7725
SEQUENCE:3
DTSTAMP:20260424T203858Z
URL:https://business.wenatchee.org/events/details/paw-and-paint-7725
END:VEVENT

END:VCALENDAR
