BEGIN:VCALENDAR
VERSION:2.0
PRODID:-//ChamberMaster//Event Calendar 2.0//EN
METHOD:PUBLISH
X-PUBLISHED-TTL:P3D
REFRESH-INTERVAL:P3D
CALSCALE:GREGORIAN
BEGIN:VEVENT
DTSTART:20190517T170000Z
DTEND:20190518T050000Z
X-MICROSOFT-CDO-ALLDAYEVENT:FALSE
SUMMARY:Panda Express Fundraiser
DESCRIPTION:Help us support our community by eating delicious Chinese food! On Friday May 17th between 10 am & 10 pm\, order from the Wenatchee Panda Express and present the ticket (linked below)\, and the WRC will receive 20% of the proceeds. Tickets can be printed out or shown on your mobile phone. Share with family and friends to help us make a greater impact!\n\n\n\nProceeds from this fundraiser will be used to support the WRC's Bruce Transitional Housing\, Parkside Permanent Supportive Housing and the Homeless Street Outreach Program.
X-ALT-DESC;FMTTYPE=text/html:<span style="color:#202020\;"><span style="font-family:helvetica\,sans-serif\;"><span style="font-size:12.0pt\;">Help us support our community by eating delicious Chinese food! On Friday May 17th between 10 am &amp\; 10 pm\, order from the Wenatchee Panda Express and&nbsp\;<strong>present the ticket</strong> (linked below)\, and the WRC will receive 20% of the proceeds. Tickets can be printed out or shown on your mobile phone. Share with family and friends to help us make a greater impact!<br />\n<br />\nProceeds from this fundraiser will be used to support the WRC&#39\;s Bruce Transitional Housing\, Parkside Permanent Supportive Housing and the Homeless Street Outreach Program.&nbsp\;&nbsp\;</span></span></span>
LOCATION:Panda Express 1920 N Wenatchee Avenue Wenatchee\, WA 98801
UID:e.289.7314
SEQUENCE:3
DTSTAMP:20260425T200148Z
URL:https://business.wenatchee.org/events/details/panda-express-fundraiser-7314
END:VEVENT

END:VCALENDAR
