BEGIN:VCALENDAR
VERSION:2.0
PRODID:-//ChamberMaster//Event Calendar 2.0//EN
METHOD:PUBLISH
X-PUBLISHED-TTL:P3D
REFRESH-INTERVAL:P3D
CALSCALE:GREGORIAN
BEGIN:VEVENT
DTSTART:20190628T003000Z
DTEND:20190628T003000Z
X-MICROSOFT-CDO-ALLDAYEVENT:FALSE
SUMMARY:Packsmart: Packing Workshop
DESCRIPTION:Learn how to pack like a pro at this informative workshop with Kathleen Collum\, AAA Travel Store Buyer and Packing Coach. She will share smart tips on how to make the most of your packing space and fill you in on the latest accessories\, including gear to help you comply with new flying regulations. Space is limited\, so reserve yours today!
X-ALT-DESC;FMTTYPE=text/html:Learn how to pack like a pro at this informative workshop with Kathleen Collum\, AAA Travel Store Buyer and Packing Coach. She will share smart tips on how to make the most of your packing space and fill you in on the latest accessories\, including gear to help you comply with new flying regulations. Space is limited\, so reserve yours today!
LOCATION:AAA Wenatchee Store 221 N Mission St. Wenatchee\, WA 98801
UID:e.289.7092
SEQUENCE:3
DTSTAMP:20260425T180943Z
URL:https://business.wenatchee.org/events/details/packsmart-packing-workshop-05-07-2019-7092
END:VEVENT

END:VCALENDAR
