BEGIN:VCALENDAR
VERSION:2.0
PRODID:-//ChamberMaster//Event Calendar 2.0//EN
METHOD:PUBLISH
X-PUBLISHED-TTL:P3D
REFRESH-INTERVAL:P3D
CALSCALE:GREGORIAN
BEGIN:VEVENT
DTSTART:20190919T230000Z
DTEND:20190920T020000Z
X-MICROSOFT-CDO-ALLDAYEVENT:FALSE
SUMMARY:Pacific Northwest Cruise & Travel Show
DESCRIPTION:Join AAA Wenatchee for our annual Cruise & Travel Show on Thursday\, September 19th at Pybus Market from 4-7pm! Over the last year\, we've received many requests from our customers for vacation packages that limit the hassle involved with air travel. This inspired us to put together an event that will focus on convenient itineraries that originate in the Pacific Northwest. Join us to learn about all the places you can sail including Alaska\, Hawaii\, the California Coast\, or even the Panama Canal  all from Seattle or Vancouver\, BC! We will have representatives from three very different cruise lines: Holland America\, UnCruise Adventures\, and Norwegian Cruise Line. We will also have a presentation by Rocky Mountaineer highlighting ever-popular luxury rail vacations in the Canadian Rockies. Come and peruse the marketplace\, enjoy a no-host bar provided by Fire\, and get inspired for your next vacation! At the show\, we'll be offering specials that include reduced deposits\, on board spending credits\, and much more- whether you're a AAA member or not! RSVP to one or all four presentations by calling (509)665-6299.
X-ALT-DESC;FMTTYPE=text/html:Join AAA Wenatchee for our annual Cruise &amp\; Travel Show on Thursday\, September 19th at Pybus Market from 4-7pm! Over the last year\, we&rsquo\;ve received many requests from our customers for vacation packages that limit the hassle involved with air travel. This inspired us to put together an event that will focus on convenient itineraries that originate in the Pacific Northwest. Join us to learn about all the places you can sail including Alaska\, Hawaii\, the California Coast\, or even the Panama Canal&hellip\; all from Seattle or Vancouver\, BC! We will have representatives from three very different cruise lines: Holland America\, UnCruise Adventures\, and Norwegian Cruise Line. We will also have a presentation by Rocky Mountaineer highlighting ever-popular luxury rail vacations in the Canadian Rockies. Come and peruse the marketplace\, enjoy a no-host bar provided by Fire\, and get inspired for your next vacation! At the show\, we&rsquo\;ll be offering specials that include reduced deposits\, on board spending credits\, and much more- whether you&rsquo\;re a AAA member or not! RSVP to one or all four presentations by calling (509)665-6299.
LOCATION:Pybus Public Market Event Center 3 N. Worthen St Wenatchee\, WA 98801
UID:e.289.7409
SEQUENCE:3
DTSTAMP:20260425T134443Z
URL:https://business.wenatchee.org/events/details/pacific-northwest-cruise-travel-show-7409
END:VEVENT

END:VCALENDAR
