BEGIN:VCALENDAR
VERSION:2.0
PRODID:-//ChamberMaster//Event Calendar 2.0//EN
METHOD:PUBLISH
X-PUBLISHED-TTL:P3D
REFRESH-INTERVAL:P3D
CALSCALE:GREGORIAN
BEGIN:VEVENT
DTSTART:20190425T230000Z
DTEND:20190426T020000Z
X-MICROSOFT-CDO-ALLDAYEVENT:FALSE
SUMMARY:Open House - North Cascades Bank
DESCRIPTION:Spring is OPEN HOUSE season-\n\nCome see our new home\, and bring your associates!\n\n\n\nPlease stop by our Open House and meet our expanded Home Mortgage Team. We look forward to seeing you and are excited to share information about our new home loan programs.
X-ALT-DESC;FMTTYPE=text/html:Spring is OPEN HOUSE season-<br />\nCome see our new home\, and bring your associates!<br />\n<br />\nPlease stop by our Open House and meet our expanded Home Mortgage Team. We look forward to seeing you and are excited to share information about our new home loan programs.
LOCATION:North Cascades Bank Home Loan Center 1 Fifth Street\, Suite 150 Wenatchee\, WA 98801
UID:e.289.7287
SEQUENCE:3
DTSTAMP:20260425T233037Z
URL:https://business.wenatchee.org/events/details/open-house-north-cascades-bank-7287
END:VEVENT

END:VCALENDAR
