BEGIN:VCALENDAR
VERSION:2.0
PRODID:-//ChamberMaster//Event Calendar 2.0//EN
METHOD:PUBLISH
X-PUBLISHED-TTL:P3D
REFRESH-INTERVAL:P3D
CALSCALE:GREGORIAN
BEGIN:VEVENT
DTSTART:20220202T160000Z
DTEND:20220202T170000Z
X-MICROSOFT-CDO-ALLDAYEVENT:FALSE
SUMMARY:One Million Cups Wenatchee Valley - Online Event
DESCRIPTION:Join us virtually! On the first Wednesday of every month\, we hear from two entrepreneurs and find out how we\, as a community\, can support them\, empower them\, and connect them to resources so they can grow their business. Bring your own coffee and join us for a great conversation! Registration is now required to get the Zoom link - visit 1mcwenatcheevalley.eventbrite.com
X-ALT-DESC;FMTTYPE=text/html:<br />\n<span style="font-size:14px\;"><span style="font-family:arial\;"><span style="background:white\;"><span style="color:black\;">Join us virtually! On the first Wednesday of every month\, we hear from two entrepreneurs and find out how we\, as a community\, can support them\, empower them\, and connect them to resources so they can grow their business. Bring your own coffee and join us for a great conversation!</span></span> <span style="background:white\;"><span style="color:black\;">Registration is now required to get the Zoom link - visit 1mcwenatcheevalley.eventbrite.com</span></span></span></span>
LOCATION:Online Event
UID:e.289.7939
SEQUENCE:3
DTSTAMP:20260424T215759Z
URL:https://business.wenatchee.org/events/details/one-million-cups-wenatchee-valley-online-event-7939
END:VEVENT

END:VCALENDAR
