BEGIN:VCALENDAR
VERSION:2.0
PRODID:-//ChamberMaster//Event Calendar 2.0//EN
METHOD:PUBLISH
X-PUBLISHED-TTL:P3D
REFRESH-INTERVAL:P3D
CALSCALE:GREGORIAN
BEGIN:VEVENT
DTSTART:20190812T180000Z
DTEND:20190812T190000Z
X-MICROSOFT-CDO-ALLDAYEVENT:FALSE
SUMMARY:Om Cooking Ribbon Cutting
DESCRIPTION:Om Cooking is launching a new menu and wants to celebrate with YOU! Join us for a Ribbon Cutting and then stay for lunch. Om will be offering specials just for this event and her food does not disappoint. We hope to see you there!
X-ALT-DESC;FMTTYPE=text/html:<span style="color: rgb(46\, 47\, 47)\; font-family: Roboto\, sans-serif\; font-size: 14px\; text-align: justify\; white-space: pre-wrap\; background-color: rgb(255\, 255\, 255)\;">Om Cooking is launching a new menu and wants to celebrate with YOU! Join us for a Ribbon Cutting and then stay for lunch. Om will be offering specials just for this event and her food does not disappoint. We hope to see you there!</span>
LOCATION:104 N Wenatchee Ave. Wenatchee
UID:e.289.7401
SEQUENCE:3
DTSTAMP:20260425T150100Z
URL:https://business.wenatchee.org/events/details/om-cooking-ribbon-cutting-7401
END:VEVENT

END:VCALENDAR
