BEGIN:VCALENDAR
VERSION:2.0
PRODID:-//ChamberMaster//Event Calendar 2.0//EN
METHOD:PUBLISH
X-PUBLISHED-TTL:P3D
REFRESH-INTERVAL:P3D
CALSCALE:GREGORIAN
BEGIN:VEVENT
DTSTART:20210613T020000Z
DTEND:20210613T033000Z
X-MICROSOFT-CDO-ALLDAYEVENT:FALSE
SUMMARY:Ohme Gardens: Dysfunction Junction Bluegrass Concert
DESCRIPTION:Dysfunction Junction is Seattle's premier bluegrass band with a unique sound that is undeniably bluegrass and distinctly Pacific Northwest. In Ohme Gardens: enjoy the setting\, the view and the music!
X-ALT-DESC;FMTTYPE=text/html:Dysfunction Junction is Seattle&#39\;s premier bluegrass band with a unique sound that is undeniably bluegrass and distinctly Pacific Northwest. In Ohme Gardens: enjoy the setting\, the view and the music!
LOCATION:Ohme Gardens: 3327 Ohme Road\, Wenatchee
UID:e.289.7841
SEQUENCE:3
DTSTAMP:20260424T085405Z
URL:https://business.wenatchee.org/events/details/ohme-gardens-dysfunction-junction-bluegrass-concert-7841
END:VEVENT

END:VCALENDAR
