BEGIN:VCALENDAR
VERSION:2.0
PRODID:-//ChamberMaster//Event Calendar 2.0//EN
METHOD:PUBLISH
X-PUBLISHED-TTL:P3D
REFRESH-INTERVAL:P3D
CALSCALE:GREGORIAN
BEGIN:VEVENT
DTSTART:20190307T173000Z
DTEND:20190307T183000Z
X-MICROSOFT-CDO-ALLDAYEVENT:FALSE
SUMMARY:Office Hour-Startup NCW
DESCRIPTION:-Sign up for a 15 minute time slot.\n\n-Prepare a few questions in advance.\n\n-Listen and learn from the expert in the field.\n\n\n\nMarch focus is Business Marketing featuring Jackie Endsley with Endsley & Company.
X-ALT-DESC;FMTTYPE=text/html:-Sign up for a 15 minute time slot.<br />\n-Prepare a few questions in advance.<br />\n-Listen and learn from the expert in the field.<br />\n<br />\nMarch focus is Business Marketing featuring Jackie Endsley with Endsley &amp\; Company.
LOCATION:Mission St Commons 218 S Mission St. Wenatchee\, WA 98801
UID:e.289.6895
SEQUENCE:3
DTSTAMP:20260426T012159Z
URL:https://business.wenatchee.org/events/details/office-hour-startup-ncw-03-07-2019-6895
END:VEVENT

END:VCALENDAR
