BEGIN:VCALENDAR
VERSION:2.0
PRODID:-//ChamberMaster//Event Calendar 2.0//EN
METHOD:PUBLISH
X-PUBLISHED-TTL:P3D
REFRESH-INTERVAL:P3D
CALSCALE:GREGORIAN
BEGIN:VEVENT
DTSTART:20190207T173000Z
DTEND:20190207T183000Z
X-MICROSOFT-CDO-ALLDAYEVENT:FALSE
SUMMARY:Office Hour-Startup NCW
DESCRIPTION:-Sign up for a 15 minute time slot.\n\n-Prepare a few questions in advance.\n\n-Listen and learn from the expert in the field.\n\n\n\nNovember Features-Stacy Luckensmeyer with WVC Center of Enterpreneurship
X-ALT-DESC;FMTTYPE=text/html:-Sign up for a 15 minute time slot.<br />\n-Prepare a few questions in advance.<br />\n-Listen and learn from the expert in the field.<br />\n<br />\nNovember Features-Stacy Luckensmeyer with WVC Center of Enterpreneurship
LOCATION:Mission St Commons 218 S Mission St. Wenatchee\, WA 98801
UID:e.289.6894
SEQUENCE:3
DTSTAMP:20260426T005753Z
URL:https://business.wenatchee.org/events/details/office-hour-startup-ncw-02-07-2019-6894
END:VEVENT

END:VCALENDAR
