BEGIN:VCALENDAR
VERSION:2.0
PRODID:-//ChamberMaster//Event Calendar 2.0//EN
METHOD:PUBLISH
X-PUBLISHED-TTL:P3D
REFRESH-INTERVAL:P3D
CALSCALE:GREGORIAN
BEGIN:VEVENT
DTSTART:20180915T190000Z
DTEND:20180915T200000Z
X-MICROSOFT-CDO-ALLDAYEVENT:FALSE
SUMMARY:Nova Bar & Grill Ribbon Cutting
DESCRIPTION:Pool\, sports\, dance floor and more. Help us welcome this new business to their south downtown location and see what they have been puttig together just for you.
X-ALT-DESC;FMTTYPE=text/html:Pool\, sports\, dance floor and more. Help us welcome this new business to their south downtown location and see what they have been puttig together just for you.&nbsp\;
LOCATION:212 S Wenatchee Avenue
UID:e.289.6802
SEQUENCE:3
DTSTAMP:20260424T073204Z
URL:https://business.wenatchee.org/events/details/nova-bar-grill-ribbon-cutting-6802
END:VEVENT

END:VCALENDAR
