BEGIN:VCALENDAR
VERSION:2.0
PRODID:-//ChamberMaster//Event Calendar 2.0//EN
METHOD:PUBLISH
X-PUBLISHED-TTL:P3D
REFRESH-INTERVAL:P3D
CALSCALE:GREGORIAN
BEGIN:VEVENT
DTSTART:20190921T153000Z
DTEND:20190921T200000Z
X-MICROSOFT-CDO-ALLDAYEVENT:FALSE
SUMMARY:North Central Washington Walk to End Alzheimer’s
DESCRIPTION:Held annually in more than 600 communities nationwide\, the Alzheimer's Association Walk to End Alzheimer's  is the world's largest event to raise awareness and funds for Alzheimer's care\, support and research. This inspiring event calls on participants of all ages and abilities to join the fight against the disease!
X-ALT-DESC;FMTTYPE=text/html:Held annually in more than 600 communities nationwide\, the Alzheimer&#39\;s Association Walk to End Alzheimer&rsquo\;s&reg\; is the world&rsquo\;s largest event to raise awareness and funds for Alzheimer&rsquo\;s care\, support and research. This inspiring event calls on participants of all ages and abilities to join the fight against the disease!
LOCATION:Pybus Public Market 3 N Worthen St. Wenatchee\, WA 98801
UID:e.289.7407
SEQUENCE:3
DTSTAMP:20260425T133643Z
URL:https://business.wenatchee.org/events/details/north-central-washington-walk-to-end-alzheimer-s-7407
END:VEVENT

END:VCALENDAR
