BEGIN:VCALENDAR
VERSION:2.0
PRODID:-//ChamberMaster//Event Calendar 2.0//EN
METHOD:PUBLISH
X-PUBLISHED-TTL:P3D
REFRESH-INTERVAL:P3D
CALSCALE:GREGORIAN
BEGIN:VEVENT
DTSTART;VALUE=DATE:20200926
DTEND;VALUE=DATE:20200927
TRANSP:TRANSPARENT
X-MICROSOFT-CDO-ALLDAYEVENT:TRUE
SUMMARY:North Central Washington Walk to End Alzheimer's
DESCRIPTION:You're invited to participate in the North Central Washington Walk to End Alzheimer's on Sept. 26\, 2020. The world may look a little different right now\, but one thing hasn't changed: our commitment to ending Alzheimer's. This year\, Walk to End Alzheimer's is everywhere   on every sidewalk\, track and trail. Watch the local Opening Ceremony online at 9:00 a.m. and then walk on your own or with a team of family and friends while others in the community do the same. No matter where we are\, we are all walking and fundraising for the same thing: a world without Alzheimer's and all other dementia. NEW! A view-only Promise Garden will also be planted at Old Dept of Transportation in Wenatchee. Drive by any time on Saturday Sept. 26\, from 9 a.m. - 4 p.m. Take your first step and register today at: alzwa.org/walk or 1.800.272.3900 Registration is free and every participant will receive a Welcome Kit in the mail with five Walk to End Alzheimer's flags to carry with them on Walk day. Anyone who donates or raises $100 or more will also receive a 2020 Walk to End Alzheimer's t-shirt. ***Your health and safety are a top priority. Please follow CDC guidelines and recommendations from local health officials when deciding to walk with those outside of your household.***
X-ALT-DESC;FMTTYPE=text/html:You&rsquo\;re invited to participate in the North Central Washington Walk to End Alzheimer&rsquo\;s on Sept. 26\, 2020. The world may look a little different right now\, but one thing hasn&rsquo\;t changed: our commitment to ending Alzheimer&rsquo\;s. This year\, Walk to End Alzheimer&rsquo\;s is everywhere &mdash\; on every sidewalk\, track and trail. Watch the local Opening Ceremony online at 9:00 a.m. and then walk on your own or with a team of family and friends while others in the community do the same. No matter where we are\, we are all walking and fundraising for the same thing: a world without Alzheimer&rsquo\;s and all other dementia. NEW! A view-only Promise Garden will also be planted at Old Dept of Transportation in Wenatchee. Drive by any time on Saturday Sept. 26\, from 9 a.m. - 4 p.m. Take your first step and register today at: alzwa.org/walk or 1.800.272.3900 Registration is free and every participant will receive a Welcome Kit in the mail with five Walk to End Alzheimer&rsquo\;s flags to carry with them on Walk day. Anyone who donates or raises $100 or more will also receive a 2020 Walk to End Alzheimer&rsquo\;s t-shirt. ***Your health and safety are a top priority. Please follow CDC guidelines and recommendations from local health officials when deciding to walk with those outside of your household.***
LOCATION:Wenatchee
UID:e.289.7758
SEQUENCE:3
DTSTAMP:20260424T191022Z
URL:https://business.wenatchee.org/events/details/north-central-washington-walk-to-end-alzheimer-s-09-26-2020-7758
END:VEVENT

END:VCALENDAR
