BEGIN:VCALENDAR
VERSION:2.0
PRODID:-//ChamberMaster//Event Calendar 2.0//EN
METHOD:PUBLISH
X-PUBLISHED-TTL:P3D
REFRESH-INTERVAL:P3D
CALSCALE:GREGORIAN
BEGIN:VEVENT
DTSTART:20210918T153000Z
DTEND:20210918T180000Z
X-MICROSOFT-CDO-ALLDAYEVENT:FALSE
SUMMARY:North Central Washington Walk to End Alzheimer's
DESCRIPTION:Held annually in more than 600 communities nationwide\, the Alzheimer's Association Walk to End Alzheimer's  is the world's largest fundraiser for Alzheimer's care\, support and research. This inspiring event calls on participants of all ages and abilities to join the fight against the disease. We're moving forward with plans to host Walk to End Alzheimer's  in person this fall. The health and safety of our participants\, staff and volunteers remain our top priorities as we make decisions about event details in your community\, and we'll continue to offer options to participate online and in your neighborhood. While there is no fee to register for Walk\, all participants are encouraged to raise critical funds that allow the Alzheimer's Association to provide 24/7 care and support and advance research toward methods of prevention\, treatment and\, ultimately\, a cure.
X-ALT-DESC;FMTTYPE=text/html:Held annually in more than 600 communities nationwide\, the Alzheimer&#39\;s Association Walk to End Alzheimer&#39\;s&reg\; is the world&#39\;s largest fundraiser for Alzheimer&#39\;s care\, support and research. This inspiring event calls on participants of all ages and abilities to join the fight against the disease. We&#39\;re moving forward with plans to host Walk to End Alzheimer&#39\;s&reg\; in person this fall. The health and safety of our participants\, staff and volunteers remain our top priorities as we make decisions about event details in your community\, and we&#39\;ll continue to offer options to participate online and in your neighborhood. While there is no fee to register for Walk\, all participants are encouraged to raise critical funds that allow the Alzheimer&rsquo\;s Association to provide 24/7 care and support and advance research toward methods of prevention\, treatment and\, ultimately\, a cure.
LOCATION:Walla Walla Point Park Wenatchee\, WA
UID:e.289.7881
SEQUENCE:3
DTSTAMP:20260424T135810Z
URL:https://business.wenatchee.org/events/details/north-central-washington-walk-to-end-alzheimer-s-09-18-2021-7881
END:VEVENT

END:VCALENDAR
