BEGIN:VCALENDAR
VERSION:2.0
PRODID:-//ChamberMaster//Event Calendar 2.0//EN
METHOD:PUBLISH
X-PUBLISHED-TTL:P3D
REFRESH-INTERVAL:P3D
CALSCALE:GREGORIAN
BEGIN:VEVENT
DTSTART:20190323T170000Z
DTEND:20190323T210000Z
X-MICROSOFT-CDO-ALLDAYEVENT:FALSE
SUMMARY:Non-Profit Day at Pybus Market
DESCRIPTION:Looking for a non-profit that could use your volunteer time\, energy and knowledge? Want to learn more about the various programs offered by non-profits? Then attend the Non-Profit Day at Pybus Market on Saturday\, March 23rd from 10am to 2pm. There will be over 40 nonprofit organizations in the concourse with representatives ready tell you about their programs and purposes. Special thanks to the Community Foundation of NCW for sponsoring the event.
X-ALT-DESC;FMTTYPE=text/html:Looking for a non-profit that could use your volunteer time\, energy and knowledge? Want to learn more about the various programs offered by non-profits? Then attend the Non-Profit Day at Pybus Market on Saturday\, March 23rd from 10am to 2pm. There will be over 40 nonprofit organizations in the concourse with representatives ready tell you about their programs and purposes. Special thanks to the Community Foundation of NCW for sponsoring the event.
LOCATION:Pybus Market
UID:e.289.7159
SEQUENCE:3
DTSTAMP:20260425T232926Z
URL:https://business.wenatchee.org/events/details/non-profit-day-at-pybus-market-7159
END:VEVENT

END:VCALENDAR
