BEGIN:VCALENDAR
VERSION:2.0
PRODID:-//ChamberMaster//Event Calendar 2.0//EN
METHOD:PUBLISH
X-PUBLISHED-TTL:P3D
REFRESH-INTERVAL:P3D
CALSCALE:GREGORIAN
BEGIN:VEVENT
DTSTART:20190324T010000Z
DTEND:20190324T040000Z
X-MICROSOFT-CDO-ALLDAYEVENT:FALSE
SUMMARY:Night at The Museum
DESCRIPTION:Join the Wenatchee Valley Museum and Cultural Center for an evening out at Night at the Museum. Explore the museum while enjoying gourmet foods\, award-winning wines\, beers\, ciders\, and distilled spirits all while listening to fun live music. Tickets include 12 sample tickets and one full pour token\, and an exclusive silent auction. Bottles of wine\, beer and spirits will be available for purchase and all sales benefit the museum.
X-ALT-DESC;FMTTYPE=text/html:Join the Wenatchee Valley Museum and Cultural Center for an evening out at Night at the Museum. Explore the museum while enjoying gourmet foods\, award-winning wines\, beers\, ciders\, and distilled spirits all while listening to fun live music. Tickets include 12 sample tickets and one full pour token\, and an exclusive silent auction. Bottles of wine\, beer and spirits will be available for purchase and all sales benefit the museum.
LOCATION:Wenatchee Valley Museum & Cultural Center
UID:e.289.7181
SEQUENCE:3
DTSTAMP:20260426T012001Z
URL:https://business.wenatchee.org/events/details/night-at-the-museum-7181
END:VEVENT

END:VCALENDAR
