BEGIN:VCALENDAR
VERSION:2.0
PRODID:-//ChamberMaster//Event Calendar 2.0//EN
METHOD:PUBLISH
X-PUBLISHED-TTL:P3D
REFRESH-INTERVAL:P3D
CALSCALE:GREGORIAN
BEGIN:VEVENT
DTSTART:20200610T170000Z
DTEND:20200610T210000Z
X-MICROSOFT-CDO-ALLDAYEVENT:FALSE
SUMMARY:NCW Regional Virtual Career Fair
DESCRIPTION:Since we are unable to hold traditional in-person job fairs at this time\, the Washington State Employment Security Department\, WorkSource Washington\, SkillSource\, North Central Educational Service District\, Port of Moses Lake\, Wenatchee Valley Chamber of Commerce\, Grant County Economic Development Council\, Apple STEM Network and Career Connect Washington are collaborating to offer this virtual job fair alternative to connect adults and high school seniors with employers from your laptop\, smartphone or tablet. Visit Bit.ly/NCWVirtualFair2020 for more information or to register.
X-ALT-DESC;FMTTYPE=text/html:Since we are unable to hold traditional in-person job fairs at this time\, the Washington State Employment Security Department\, WorkSource Washington\, SkillSource\, North Central Educational Service District\, Port of Moses Lake\, Wenatchee Valley Chamber of Commerce\, Grant County Economic Development Council\, Apple STEM Network and Career Connect Washington are collaborating to offer this virtual job fair alternative to connect adults and high school seniors with employers from your laptop\, smartphone or tablet. Visit Bit.ly/NCWVirtualFair2020 for more information or to register.
LOCATION:Virtual
UID:e.289.7720
SEQUENCE:3
DTSTAMP:20260424T222944Z
URL:https://business.wenatchee.org/events/details/ncw-regional-virtual-career-fair-7720
END:VEVENT

END:VCALENDAR
