BEGIN:VCALENDAR
VERSION:2.0
PRODID:-//ChamberMaster//Event Calendar 2.0//EN
METHOD:PUBLISH
X-PUBLISHED-TTL:P3D
REFRESH-INTERVAL:P3D
CALSCALE:GREGORIAN
BEGIN:VEVENT
DTSTART:20191105T170000Z
DTEND:20191105T213000Z
X-MICROSOFT-CDO-ALLDAYEVENT:FALSE
SUMMARY:NCW College & Career Expo
DESCRIPTION:Promote careers\, education\, training and support services to thousands of high school and college students at NCW's premier career connected learning event.
X-ALT-DESC;FMTTYPE=text/html:Promote careers\, education\, training and support services to thousands of high school and college students at NCW&#39\;s premier career connected learning event.
LOCATION:Wenatchee Valley College- SRC 1300 Fifth St. Wenatchee\, WA 98801
UID:e.289.7461
SEQUENCE:3
DTSTAMP:20260425T103057Z
URL:https://business.wenatchee.org/events/details/ncw-college-career-expo-7461
END:VEVENT

END:VCALENDAR
