BEGIN:VCALENDAR
VERSION:2.0
PRODID:-//ChamberMaster//Event Calendar 2.0//EN
METHOD:PUBLISH
X-PUBLISHED-TTL:P3D
REFRESH-INTERVAL:P3D
CALSCALE:GREGORIAN
BEGIN:VEVENT
DTSTART:20190807T010000Z
DTEND:20190807T023000Z
X-MICROSOFT-CDO-ALLDAYEVENT:FALSE
SUMMARY:National Night Out 2019
DESCRIPTION:National Night Out is an annual community-building campaign that promotes police-community partnerships and neighborhood camaraderie to make our neighborhoods safer\, more caring places to live. National Night Out enhances the relationships between neighbors and law enforcement while bringing back a true sense of community.
X-ALT-DESC;FMTTYPE=text/html:National Night Out is an annual community-building campaign that promotes police-community partnerships and neighborhood camaraderie to make our neighborhoods safer\, more caring places to live. National Night Out enhances the relationships between neighbors and law enforcement while bringing back a true sense of community.
LOCATION:Eastmont Community Park by the Aquatic Center
UID:e.289.7392
SEQUENCE:3
DTSTAMP:20260425T150729Z
URL:https://business.wenatchee.org/events/details/national-night-out-2019-7392
END:VEVENT

END:VCALENDAR
