BEGIN:VCALENDAR
VERSION:2.0
PRODID:-//ChamberMaster//Event Calendar 2.0//EN
METHOD:PUBLISH
X-PUBLISHED-TTL:P3D
REFRESH-INTERVAL:P3D
CALSCALE:GREGORIAN
BEGIN:VEVENT
DTSTART:20191122T000000Z
DTEND:20191122T010000Z
X-MICROSOFT-CDO-ALLDAYEVENT:FALSE
SUMMARY:My Place Hotels: Ground Breaking
DESCRIPTION:Join us at the ground breaking event for My Place Hotels!
X-ALT-DESC;FMTTYPE=text/html:Join us at the ground breaking event for My Place Hotels!
LOCATION:820 Riverside Dr. Wenatchee\, WA 98801
UID:e.289.7567
SEQUENCE:3
DTSTAMP:20260425T102034Z
URL:https://business.wenatchee.org/events/details/my-place-hotels-ground-breaking-7567
END:VEVENT

END:VCALENDAR
