BEGIN:VCALENDAR
VERSION:2.0
PRODID:-//ChamberMaster//Event Calendar 2.0//EN
METHOD:PUBLISH
X-PUBLISHED-TTL:P3D
REFRESH-INTERVAL:P3D
CALSCALE:GREGORIAN
BEGIN:VEVENT
DTSTART:20191122T000000Z
DTEND:20191122T010000Z
X-MICROSOFT-CDO-ALLDAYEVENT:FALSE
SUMMARY:My Place Hotels Ground Breaking
DESCRIPTION:You're invited to the Ground Breaking celebration of My Place Hotels.\n\n4:00 to 5:00 pm\n\n820 Riverside Dr.
X-ALT-DESC;FMTTYPE=text/html:You&#39\;re invited to the Ground Breaking celebration of My Place Hotels.<br />\n4:00 to 5:00 pm<br />\n820 Riverside Dr.
LOCATION:820 Riverside Dr.
UID:e.289.7564
SEQUENCE:3
DTSTAMP:20260425T102933Z
URL:https://business.wenatchee.org/events/details/my-place-hotels-ground-breaking-7564
END:VEVENT

END:VCALENDAR
