BEGIN:VCALENDAR
VERSION:2.0
PRODID:-//ChamberMaster//Event Calendar 2.0//EN
METHOD:PUBLISH
X-PUBLISHED-TTL:P3D
REFRESH-INTERVAL:P3D
CALSCALE:GREGORIAN
BEGIN:VEVENT
DTSTART:20190927T010000Z
DTEND:20190927T033000Z
X-MICROSOFT-CDO-ALLDAYEVENT:FALSE
SUMMARY:Murder Mystery Dinner
DESCRIPTION:Join us for an interactive Murder Mystery Dinner on Thursday\, September 26th at 6:00 p.m. You are a passenger on the luxurious Oriental Express. Your fellow passengers number several unsavory characters\, almost certainly up to no good. You don't know who you can trust. You hope to make it through the last leg of the trip alive. Unexpectedly\, the train is snowed in and one of the passengers is murdered. Fortunately\, a famed detective is on board\; the identity of the murderer should be discovered by the time the police arrive.
X-ALT-DESC;FMTTYPE=text/html:Join us for an interactive Murder Mystery Dinner on Thursday\, September 26th at 6:00 p.m. You are a passenger on the luxurious Oriental Express. Your fellow passengers number several unsavory characters\, almost certainly up to no good. You don&rsquo\;t know who you can trust. You hope to make it through the last leg of the trip alive. Unexpectedly\, the train is snowed in and one of the passengers is murdered. Fortunately\, a famed detective is on board\; the identity of the murderer should be discovered by the time the police arrive.
LOCATION:Wenatchee Valley Museum & Cultural Center
UID:e.289.7435
SEQUENCE:3
DTSTAMP:20260425T134042Z
URL:https://business.wenatchee.org/events/details/murder-mystery-dinner-7435
END:VEVENT

END:VCALENDAR
