BEGIN:VCALENDAR
VERSION:2.0
PRODID:-//ChamberMaster//Event Calendar 2.0//EN
METHOD:PUBLISH
X-PUBLISHED-TTL:P3D
REFRESH-INTERVAL:P3D
CALSCALE:GREGORIAN
BEGIN:VEVENT
DTSTART:20190518T013000Z
DTEND:20190518T043000Z
X-MICROSOFT-CDO-ALLDAYEVENT:FALSE
SUMMARY:Mucho to Taco 'Bout
DESCRIPTION:Professional Meet-N-Greet & Speed Networking Help us Kick-Off the NEW Mentoring program sponsored by the Wenatchee Valley College Center for Entrepreneurship. Meet the Entiat Valley Chamber of Commerce board and staff and enjoy a complimentary taco bar! RSVP by May 13th Email: info@entiatchamber.com Make sure to bring plenty of business cards for networking
X-ALT-DESC;FMTTYPE=text/html:Professional Meet-N-Greet &amp\; Speed Networking Help us Kick-Off the NEW Mentoring program sponsored by the Wenatchee Valley College Center for Entrepreneurship. Meet the Entiat Valley Chamber of Commerce board and staff and enjoy a complimentary taco bar! RSVP by May 13th Email: info@entiatchamber.com Make sure to bring plenty of business cards for networking
LOCATION:Entiat Pub -N- Grub 14481 Sr 97a\, Entiat\, WA 98822
UID:e.289.7227
SEQUENCE:3
DTSTAMP:20260425T200405Z
URL:https://business.wenatchee.org/events/details/mucho-to-taco-bout-7227
END:VEVENT

END:VCALENDAR
