BEGIN:VCALENDAR
VERSION:2.0
PRODID:-//ChamberMaster//Event Calendar 2.0//EN
METHOD:PUBLISH
X-PUBLISHED-TTL:P3D
REFRESH-INTERVAL:P3D
CALSCALE:GREGORIAN
BEGIN:VEVENT
DTSTART;VALUE=DATE:20190701
DTEND;VALUE=DATE:20190702
TRANSP:TRANSPARENT
X-MICROSOFT-CDO-ALLDAYEVENT:TRUE
SUMMARY:Mindful Monday featuring Water Access Now @ Water From Wine
DESCRIPTION:Mindful Monday takes place the first Monday of every month at Water From Wine Leavenworth. We feature one of our clean water partners\, explain what they do & where they do it\, then feature their specialty label for the entire month. Purchase the Water Access Now specialty label and 100% of the dollar amount from each bottle will go to help fund their clean water efforts. Join us at 6:45 for a 15 min mindful meditation!
X-ALT-DESC;FMTTYPE=text/html:Mindful Monday takes place the first Monday of every month at Water From Wine Leavenworth. We feature one of our clean water partners\, explain what they do &amp\; where they do it\, then feature their specialty label for the entire month. Purchase the Water Access Now specialty label and 100% of the dollar amount from each bottle will go to help fund their clean water efforts. Join us at 6:45 for a 15 min mindful meditation!
LOCATION:Water From Wine @ The Wine Cellar 217 9th St\, Suite E Leavenworth Wa 98826 *downstairs to the right
UID:e.289.7363
SEQUENCE:3
DTSTAMP:20260425T163214Z
URL:https://business.wenatchee.org/events/details/mindful-monday-featuring-water-access-now-water-from-wine-7363
END:VEVENT

END:VCALENDAR
