BEGIN:VCALENDAR
VERSION:2.0
PRODID:-//ChamberMaster//Event Calendar 2.0//EN
METHOD:PUBLISH
X-PUBLISHED-TTL:P3D
REFRESH-INTERVAL:P3D
CALSCALE:GREGORIAN
BEGIN:VEVENT
DTSTART:20190323T160000Z
DTEND:20190323T230000Z
X-MICROSOFT-CDO-ALLDAYEVENT:FALSE
SUMMARY:Mindful Facilitation
DESCRIPTION:Leading a group is complex\, challenging work. Even a well-designed agenda can be sidelined by participant anxieties or expectations that create unproductive group dynamics. So throw your agenda away! We will introduce new and highly effective approaches that enable you to uncover what's underneath the challenges your group is facing. You'll gain valuable facilitation skills to lead your team with greater cohesion and effectiveness. Approved for 6 clock hours.
X-ALT-DESC;FMTTYPE=text/html:Leading a group is complex\, challenging work. Even a well-designed agenda can be sidelined by participant anxieties or expectations that create unproductive group dynamics. So throw your agenda away! We will introduce new and highly effective approaches that enable you to uncover what&rsquo\;s underneath the challenges your group is facing. You&rsquo\;ll gain valuable facilitation skills to lead your team with greater cohesion and effectiveness. Approved for 6 clock hours.
LOCATION:Red Lion\, Wenatchee
UID:e.289.7158
SEQUENCE:3
DTSTAMP:20260425T232539Z
URL:https://business.wenatchee.org/events/details/mindful-facilitation-03-23-2019-7158
END:VEVENT

END:VCALENDAR
