BEGIN:VCALENDAR
VERSION:2.0
PRODID:-//ChamberMaster//Event Calendar 2.0//EN
METHOD:PUBLISH
X-PUBLISHED-TTL:P3D
REFRESH-INTERVAL:P3D
CALSCALE:GREGORIAN
BEGIN:VEVENT
DTSTART:20201209T200000Z
DTEND:20201209T210000Z
X-MICROSOFT-CDO-ALLDAYEVENT:FALSE
SUMMARY:Mental Health Resources
DESCRIPTION:2020 has been a difficult year for everyone. Our routines have been altered\, our businesses and schools have been closed\, our family and friends have been sick. Your mental health\, and the mental health of your employees is critical. Join experts in the field and practitioners locally for a roundtable discussion of where you can find resources to share with your employees. Panelists include professionals from: Confluence Health\, Columbia Valley Community Health\, Center For Alcohol and Drug Treatment\, the Suicide Prevention Coalition of North Central Washington\, Children's Home Society and Catholic Charities.\n\n \n\nThis event is FREE\, registration is required to receive the Zoom link.
X-ALT-DESC;FMTTYPE=text/html:<div style="color: rgb(64\, 63\, 66)\; font-family: Roboto\, sans-serif\; font-size: 14px\; white-space: pre-wrap\; text-align: justify\;"><span style="color: black\;">2020 has been a difficult year for everyone. Our routines have been altered\, our businesses and schools have been closed\, our family and friends have been sick. Your mental health\, and the mental health of your employees is critical. Join experts in the field and practitioners locally for a roundtable discussion of where you can find resources to share with your employees. Panelists include professionals from: Confluence Health\, Columbia Valley Community Health\, Center For Alcohol and Drug Treatment\, the Suicide Prevention Coalition of North Central Washington\, Children&rsquo\;s Home Society and Catholic Charities.</span></div>\n\n<div style="color: rgb(64\, 63\, 66)\; font-family: Roboto\, sans-serif\; font-size: 14px\; white-space: pre-wrap\; text-align: justify\;">&nbsp\;</div>\n\n<div style="color: rgb(64\, 63\, 66)\; font-family: Roboto\, sans-serif\; font-size: 14px\; white-space: pre-wrap\;"><span style="color: black\;">This event is FREE\, registration is required to receive the Zoom link.</span></div>\n
LOCATION:Zoom
UID:e.289.7781
SEQUENCE:3
DTSTAMP:20260424T123135Z
URL:https://business.wenatchee.org/events/details/mental-health-resources-7781
END:VEVENT

END:VCALENDAR
