BEGIN:VCALENDAR
VERSION:2.0
PRODID:-//ChamberMaster//Event Calendar 2.0//EN
METHOD:PUBLISH
X-PUBLISHED-TTL:P3D
REFRESH-INTERVAL:P3D
CALSCALE:GREGORIAN
BEGIN:VEVENT
DTSTART:20190822T003000Z
DTEND:20190822T023000Z
X-MICROSOFT-CDO-ALLDAYEVENT:FALSE
SUMMARY:Membership Summer Social
DESCRIPTION:Women's Service League of North Central Washington would like to welcome new and prospective members to join us for our upcoming Membership Summer Social! Come learn more about being a part of Wenatchee's Premier Women Volunteer Group. Take part in our incredible annual projects like: Diaper Drive\, My Girlfriend's Closet\, Touch A Truck and Prom Dress Giveaway.
X-ALT-DESC;FMTTYPE=text/html:Women&#39\;s Service League of North Central Washington would like to welcome new and prospective members to join us for our upcoming Membership Summer Social! Come learn more about being a part of Wenatchee&#39\;s Premier Women Volunteer Group. Take part in our incredible annual projects like: Diaper Drive\, My Girlfriend&#39\;s Closet\, Touch A Truck and Prom Dress Giveaway.
LOCATION:Pybus Public Market 3 N. Worthen St. Wenatchee\, WA
UID:e.289.7411
SEQUENCE:3
DTSTAMP:20260425T163132Z
URL:https://business.wenatchee.org/events/details/membership-summer-social-7411
END:VEVENT

END:VCALENDAR
