BEGIN:VCALENDAR
VERSION:2.0
PRODID:-//ChamberMaster//Event Calendar 2.0//EN
METHOD:PUBLISH
X-PUBLISHED-TTL:P3D
REFRESH-INTERVAL:P3D
CALSCALE:GREGORIAN
BEGIN:VEVENT
DTSTART:20191119T163000Z
DTEND:20191119T173000Z
X-MICROSOFT-CDO-ALLDAYEVENT:FALSE
SUMMARY:Members Only Seminar: Franchising 101
DESCRIPTION:Tuesday\, November 19 | 8:30am to 9:30am Pybus Board Room | 3 N. Worthen Street\, Wenatchee WA Interested in starting a franchise? Or maybe learning how you can turn your business into a franchise? Join us for this special seminar where Wendy Dalpez from The Entrepreneur's Source   Wendy Dalpez will discuss the benefits of franchising and entrepreneurship\, and how to get there! This event is great for any entrepreneur who has thought about franchising. There are no obligations at this event\, it is purely an engaging seminar to provide you with information on how franchises work and an opportunity to connect with a franchise coach who has helped hundreds of entrepreneurs get started. This event is open only to current GWATA members. Please check our Member Directory at www.gwata.org/members to see if you are a current member (all employees for a current business member are members). Seating is limited and pre-registration is required!
X-ALT-DESC;FMTTYPE=text/html:Tuesday\, November 19 | 8:30am to 9:30am Pybus Board Room | 3 N. Worthen Street\, Wenatchee WA Interested in starting a franchise? Or maybe learning how you can turn your business into a franchise? Join us for this special seminar where Wendy Dalpez from The Entrepreneur&rsquo\;s Source &ndash\; Wendy Dalpez will discuss the benefits of franchising and entrepreneurship\, and how to get there! This event is great for any entrepreneur who has thought about franchising. There are no obligations at this event\, it is purely an engaging seminar to provide you with information on how franchises work and an opportunity to connect with a franchise coach who has helped hundreds of entrepreneurs get started. This event is open only to current GWATA members. Please check our Member Directory at www.gwata.org/members to see if you are a current member (all employees for a current business member are members). Seating is limited and pre-registration is required!
LOCATION:Pybus Board Room 3 N Worthen St Wenatchee\, WA 98801
UID:e.289.7557
SEQUENCE:3
DTSTAMP:20260425T121658Z
URL:https://business.wenatchee.org/events/details/members-only-seminar-franchising-101-11-19-2019-7557
END:VEVENT

END:VCALENDAR
