BEGIN:VCALENDAR
VERSION:2.0
PRODID:-//ChamberMaster//Event Calendar 2.0//EN
METHOD:PUBLISH
X-PUBLISHED-TTL:P3D
REFRESH-INTERVAL:P3D
CALSCALE:GREGORIAN
BEGIN:VEVENT
DTSTART:20190130T163000Z
DTEND:20190130T173000Z
X-MICROSOFT-CDO-ALLDAYEVENT:FALSE
SUMMARY:Members Only Seminar: Cybersecurity
DESCRIPTION:In today's world\, cybersecurity often feels like the old "wild west" with a seemingly endless array of risks and bad guys\, not to mention the variety of tools and vendors promising to provide security. Fortunately\, Martin will explain why an IT degree is not necessary to understand the steps needed to defend yourself against cyber attacks\; often just thinking like a criminal (and training your employees to do the same) is half the battle. During this one-hour presentation\, Martin will walk you through a practical approach to thinking about cybersecurity by answering questions like: what are my risks\, who can I trust\, and what can I do to ease my stress? Martin will review the risks and provide tips that you can easily implement in your business\, all while giving you the building blocks for incorporating cybersecurity hygiene into your organization's culture and technology environment.
X-ALT-DESC;FMTTYPE=text/html:In today&rsquo\;s world\, cybersecurity often feels like the old &ldquo\;wild west&rdquo\; with a seemingly endless array of risks and bad guys\, not to mention the variety of tools and vendors promising to provide security. Fortunately\, Martin will explain why an IT degree is not necessary to understand the steps needed to defend yourself against cyber attacks\; often just thinking like a criminal (and training your employees to do the same) is half the battle. During this one-hour presentation\, Martin will walk you through a practical approach to thinking about cybersecurity by answering questions like: what are my risks\, who can I trust\, and what can I do to ease my stress? Martin will review the risks and provide tips that you can easily implement in your business\, all while giving you the building blocks for incorporating cybersecurity hygiene into your organization&rsquo\;s culture and technology environment.
LOCATION:Confluence Technology Center 285 Technology Center Way Wenatchee\, WA 98801
UID:e.289.7063
SEQUENCE:3
DTSTAMP:20260426T044158Z
URL:https://business.wenatchee.org/events/details/members-only-seminar-cybersecurity-7063
END:VEVENT

END:VCALENDAR
