BEGIN:VCALENDAR
VERSION:2.0
PRODID:-//ChamberMaster//Event Calendar 2.0//EN
METHOD:PUBLISH
X-PUBLISHED-TTL:P3D
REFRESH-INTERVAL:P3D
CALSCALE:GREGORIAN
BEGIN:VEVENT
DTSTART:20191116T190000Z
DTEND:20191116T220000Z
X-MICROSOFT-CDO-ALLDAYEVENT:FALSE
SUMMARY:Meet the Mentors
DESCRIPTION:Meet the newest SCORE mentors during National Entrepreneurship Month. Talk to a mentor about your business idea. Get advice on how to start\, improve or close a business. Brainstorm ideas and more! Join us for this no-cost SCORE event at Washington Federal Bank\, 830 N Wenatchee Ave\, Wenatchee WA from 11-2 on Saturday Nov. 16th. Grab yourself a mentor today!
X-ALT-DESC;FMTTYPE=text/html:Meet the newest SCORE mentors during National Entrepreneurship Month. Talk to a mentor about your business idea. Get advice on how to start\, improve or close a business. Brainstorm ideas and more! Join us for this no-cost SCORE event at Washington Federal Bank\, 830 N Wenatchee Ave\, Wenatchee WA from 11-2 on Saturday Nov. 16th. Grab yourself a mentor today!
LOCATION:830 N Wenatchee Ave
UID:e.289.7566
SEQUENCE:3
DTSTAMP:20260425T114151Z
URL:https://business.wenatchee.org/events/details/meet-the-mentors-7566
END:VEVENT

END:VCALENDAR
