BEGIN:VCALENDAR
VERSION:2.0
PRODID:-//ChamberMaster//Event Calendar 2.0//EN
METHOD:PUBLISH
X-PUBLISHED-TTL:P3D
REFRESH-INTERVAL:P3D
CALSCALE:GREGORIAN
BEGIN:VEVENT
DTSTART:20230429T160000Z
DTEND:20230429T210000Z
X-MICROSOFT-CDO-ALLDAYEVENT:FALSE
SUMMARY:Master Gardener Annual Fundraiser Plant Sale
DESCRIPTION:Plan to stock your vegetable and perennial gardens with veggies we grow and perennials we select for our growing conditions. It includes tomato varieties voted best in category by tasters at our 2022 Tomato Tasting Gala! All proceeds from this fundraiser remain in our community and fund educational programs for adults and youth.
X-ALT-DESC;FMTTYPE=text/html:Plan to stock your vegetable and perennial gardens with veggies we grow and perennials we select for our growing conditions. It includes tomato varieties voted best in category by tasters at our 2022 Tomato Tasting Gala! All proceeds from this fundraiser remain in our community and fund educational programs for adults and youth.
LOCATION:Pybus Public Market 3 Worthen Street Wenatchee\, WA
UID:e.289.8238
SEQUENCE:3
DTSTAMP:20260421T235249Z
URL:https://business.wenatchee.org/events/details/master-gardener-annual-fundraiser-plant-sale-8238
END:VEVENT

END:VCALENDAR
