BEGIN:VCALENDAR
VERSION:2.0
PRODID:-//ChamberMaster//Event Calendar 2.0//EN
METHOD:PUBLISH
X-PUBLISHED-TTL:P3D
REFRESH-INTERVAL:P3D
CALSCALE:GREGORIAN
BEGIN:VEVENT
DTSTART:20201008T153000Z
DTEND:20201008T233000Z
X-MICROSOFT-CDO-ALLDAYEVENT:FALSE
SUMMARY:Managing with Mind & Heart - Day 4: The Positive & Professional Workplace Culture
DESCRIPTION:Join the thousands of others who have learned "The Top 15 Management Skills" through our interactive 5-day management course. Now as a public offering ONLINE experience.\n\n\n\nThursdays | Fall 2020\n\n\n\nCreate a work environment that fosters employee engagement\, personal accountability\, decreased negativity\, fairness\, and commitment.
X-ALT-DESC;FMTTYPE=text/html:<span style="color: rgb(63\, 63\, 63)\; font-family: Arial\, sans-serif\; font-size: 14px\;">Join the thousands of others who have learned &ldquo\;The Top 15 Management Skills&rdquo\; through our interactive 5-day management course. Now as a public offering ONLINE experience.</span><br style="box-sizing: content-box\; bottom: auto\; clear: none\; color: rgb(63\, 63\, 63)\; content: normal\; direction: inherit\; display: inline\; empty-cells: show\; float: none\; font-variant-numeric: inherit\; font-variant-east-asian: inherit\; font-stretch: inherit\; font-size: 14px\; font-family: Arial\, sans-serif\; left: auto\; line-height: inherit\; margin: 0px\; max-height: none\; max-width: none\; min-height: initial\; min-width: initial\; opacity: 1\; outline-offset: 0px\; overflow: visible\; padding: 0px\; position: static\; resize: none\; right: auto\; table-layout: auto\; text-overflow: clip\; top: auto\; vertical-align: baseline\; visibility: inherit\; word-break: inherit\; overflow-wrap: inherit\; z-index: auto\; background-image: none\; background-position: initial\; background-size: initial\; background-repeat: initial\; background-attachment: initial\; background-origin: initial\; background-clip: initial\; border: none\; border-collapse: separate\; border-radius: 0px\; height: auto\; width: auto\;" />\n<br style="box-sizing: content-box\; bottom: auto\; clear: none\; color: rgb(63\, 63\, 63)\; content: normal\; direction: inherit\; display: inline\; empty-cells: show\; float: none\; font-variant-numeric: inherit\; font-variant-east-asian: inherit\; font-stretch: inherit\; font-size: 14px\; font-family: Arial\, sans-serif\; left: auto\; line-height: inherit\; margin: 0px\; max-height: none\; max-width: none\; min-height: initial\; min-width: initial\; opacity: 1\; outline-offset: 0px\; overflow: visible\; padding: 0px\; position: static\; resize: none\; right: auto\; table-layout: auto\; text-overflow: clip\; top: auto\; vertical-align: baseline\; visibility: inherit\; word-break: inherit\; overflow-wrap: inherit\; z-index: auto\; background-image: none\; background-position: initial\; background-size: initial\; background-repeat: initial\; background-attachment: initial\; background-origin: initial\; background-clip: initial\; border: none\; border-collapse: separate\; border-radius: 0px\; height: auto\; width: auto\;" />\n<span style="color: rgb(63\, 63\, 63)\; font-family: Arial\, sans-serif\; font-size: 14px\;">Thursdays | Fall 2020</span><br />\n<br />\nCreate a work environment that fosters employee engagement\, personal accountability\, decreased negativity\, fairness\, and commitment.&nbsp\;
LOCATION:Online Event
UID:e.289.7740
SEQUENCE:3
DTSTAMP:20260424T154938Z
URL:https://business.wenatchee.org/events/details/managing-with-mind-heart-day-4-the-positive-professional-workplace-culture-7740
END:VEVENT

END:VCALENDAR
