BEGIN:VCALENDAR
VERSION:2.0
PRODID:-//ChamberMaster//Event Calendar 2.0//EN
METHOD:PUBLISH
X-PUBLISHED-TTL:P3D
REFRESH-INTERVAL:P3D
CALSCALE:GREGORIAN
BEGIN:VEVENT
DTSTART:20200917T153000Z
DTEND:20200917T233000Z
X-MICROSOFT-CDO-ALLDAYEVENT:FALSE
SUMMARY:Managing with Mind & Heart - Day 1: The Leadership Mindset
DESCRIPTION:Join the thousands of others who have learned "The Top 15 Management Skills" through our interactive 5-day management course. Now as a public offering ONLINE experience\n\n\n\nThursdays | Fall 2020\n\n\n\nExplore the manager's role in building morale and cultivating relationships based on trust & respect.
X-ALT-DESC;FMTTYPE=text/html:Join the thousands of others who have learned &ldquo\;The Top 15 Management Skills&rdquo\; through our interactive 5-day management course. Now as a public offering ONLINE experience<br />\n<br />\nThursdays | Fall 2020<br />\n<br />\nExplore the manager&rsquo\;s role in building morale and cultivating relationships based on trust &amp\; respect.
LOCATION:Online Event
UID:e.289.7736
SEQUENCE:3
DTSTAMP:20260424T172901Z
URL:https://business.wenatchee.org/events/details/managing-with-mind-heart-day-1-the-leadership-mindset-7736
END:VEVENT

END:VCALENDAR
