BEGIN:VCALENDAR
VERSION:2.0
PRODID:-//ChamberMaster//Event Calendar 2.0//EN
METHOD:PUBLISH
X-PUBLISHED-TTL:P3D
REFRESH-INTERVAL:P3D
CALSCALE:GREGORIAN
BEGIN:VEVENT
DTSTART:20210422T153000Z
DTEND:20210422T233000Z
X-MICROSOFT-CDO-ALLDAYEVENT:FALSE
SUMMARY:Managing with Mind & Heart
DESCRIPTION:Nash Consulting presents Managing with Mind & Heart.\n\n \n\nJoin the thousands of others who have learned "The Top 15 Management Skills" through our interactive 5-day management course. \n\n\n\nNow as a public offering ONLINE live workshop with trainers Hana Butler & Tad Hildebrand.\n\n\n\nDay 4: The Positive & Professional Workplace Culture\n\nCreate a work environment that fosters employee engagement\, personal accountability\, decreased negativity\, fairness\, and commitment.
X-ALT-DESC;FMTTYPE=text/html:Nash Consulting presents Managing with Mind &amp\; Heart.<br />\n&nbsp\;<br />\nJoin the thousands of others who have learned &quot\;The Top 15 Management Skills&quot\; through our interactive 5-day management course.&nbsp\;<br />\n<br />\nNow as a public offering ONLINE live workshop with trainers Hana Butler &amp\; Tad Hildebrand.<br />\n<br />\nDay 4: The Positive &amp\; Professional Workplace Culture<br />\nCreate a work environment that fosters employee engagement\, personal accountability\, decreased negativity\, fairness\, and commitment.
LOCATION:Online workshop (registration required)
UID:e.289.7817
SEQUENCE:3
DTSTAMP:20260422T201828Z
URL:https://business.wenatchee.org/events/details/managing-with-mind-heart-7817
END:VEVENT

END:VCALENDAR
