BEGIN:VCALENDAR
VERSION:2.0
PRODID:-//ChamberMaster//Event Calendar 2.0//EN
METHOD:PUBLISH
X-PUBLISHED-TTL:P3D
REFRESH-INTERVAL:P3D
CALSCALE:GREGORIAN
BEGIN:VEVENT
DTSTART:20190306T200000Z
DTEND:20190306T213000Z
X-MICROSOFT-CDO-ALLDAYEVENT:FALSE
SUMMARY:Lunch & Learn: What the Heck is EOS®?
DESCRIPTION:Join us for lunch (provided!) and the opportunity to learn more about the proven process that Orchard Corset used to guide our company through some very tough times to the exceptionally healthy company of today. This is for you if: *You own or operate a business with 15-150 employees *You want to grow your business *You are tired of your business running you No cost and no pressure! Seating is very limited.
X-ALT-DESC;FMTTYPE=text/html:Join us for lunch (provided!) and the opportunity to learn more about the proven process that Orchard Corset used to guide our company through some very tough times to the exceptionally healthy company of today. This is for you if: *You own or operate a business with 15-150 employees *You want to grow your business *You are tired of your business running you No cost and no pressure! Seating is very limited.
LOCATION:Orchard Corset Conference Room 27 S Chelan Street Wenatchee
UID:e.289.7170
SEQUENCE:3
DTSTAMP:20260425T232548Z
URL:https://business.wenatchee.org/events/details/lunch-learn-what-the-heck-is-eos-7170
END:VEVENT

END:VCALENDAR
