BEGIN:VCALENDAR
VERSION:2.0
PRODID:-//ChamberMaster//Event Calendar 2.0//EN
METHOD:PUBLISH
X-PUBLISHED-TTL:P3D
REFRESH-INTERVAL:P3D
CALSCALE:GREGORIAN
BEGIN:VEVENT
DTSTART:20210603T190000Z
DTEND:20210603T200000Z
X-MICROSOFT-CDO-ALLDAYEVENT:FALSE
SUMMARY:Long Term Care Insurance Payroll Tax - Coming Soon!
DESCRIPTION:AVHRA is hosting a Lunch & Learn facilitated by Erin McCool of Ogden Murphy Wallace on the new mandated long term care insurance that will be funded by a new payroll tax starting on January 1\, 2022. Erin will share information about this new tax\, how employees can potentially "opt-out" and what this means to you and your employees. Bring your questions and insights for Erin and join us as we learn about this very important topic. Register on Eventbrite: https://www.eventbrite.com/e/long-term-care-insurance-payroll-tax-coming-soon-tickets-151144444101
X-ALT-DESC;FMTTYPE=text/html:AVHRA is hosting a Lunch &amp\; Learn facilitated by Erin McCool of Ogden Murphy Wallace on the new mandated long term care insurance that will be funded by a new payroll tax starting on January 1\, 2022. Erin will share information about this new tax\, how employees can potentially &quot\;opt-out&quot\; and what this means to you and your employees. Bring your questions and insights for Erin and join us as we learn about this very important topic. Register on Eventbrite: https://www.eventbrite.com/e/long-term-care-insurance-payroll-tax-coming-soon-tickets-151144444101
LOCATION:Zoom
UID:e.289.7838
SEQUENCE:3
DTSTAMP:20260424T085757Z
URL:https://business.wenatchee.org/events/details/long-term-care-insurance-payroll-tax-coming-soon-7838
END:VEVENT

END:VCALENDAR
