BEGIN:VCALENDAR
VERSION:2.0
PRODID:-//ChamberMaster//Event Calendar 2.0//EN
METHOD:PUBLISH
X-PUBLISHED-TTL:P3D
REFRESH-INTERVAL:P3D
CALSCALE:GREGORIAN
BEGIN:VEVENT
DTSTART:20190518T160000Z
DTEND:20190519T000000Z
X-MICROSOFT-CDO-ALLDAYEVENT:FALSE
SUMMARY:Literacy Council Tutor Training
DESCRIPTION:Support adults in learning English as a Second Language with the Literacy Council! Apply as a volunteer to attend our upcoming training. As a volunteer tutor\, you would:   Help students learn English for everyday life   Tutor 1.5-hour sessions twice per week for 4 months   Tutor small groups of 1-6 adults   Not need to have teaching experience or know any language besides English\n\n\n\nVisit http://www.literacycouncilcd.org or call (509) 682-6966 for more information.
X-ALT-DESC;FMTTYPE=text/html:Support adults in learning English as a Second Language with the Literacy Council! Apply as a volunteer to attend our upcoming training. As a volunteer tutor\, you would: &bull\; Help students learn English for everyday life &bull\; Tutor 1.5-hour sessions twice per week for 4 months &bull\; Tutor small groups of 1-6 adults &bull\; Not need to have teaching experience or know any language besides English<br />\n<br />\nVisit http://www.literacycouncilcd.org or call (509) 682-6966 for more information.
LOCATION:Wenatchee Community Center\, 508 S Chelan Ave\, Wenatchee
UID:e.289.7283
SEQUENCE:3
DTSTAMP:20260425T200308Z
URL:https://business.wenatchee.org/events/details/literacy-council-tutor-training-7283
END:VEVENT

END:VCALENDAR
