BEGIN:VCALENDAR
VERSION:2.0
PRODID:-//ChamberMaster//Event Calendar 2.0//EN
METHOD:PUBLISH
X-PUBLISHED-TTL:P3D
REFRESH-INTERVAL:P3D
CALSCALE:GREGORIAN
BEGIN:VEVENT
DTSTART:20210413T020000Z
DTEND:20210413T033000Z
X-MICROSOFT-CDO-ALLDAYEVENT:FALSE
SUMMARY:Literacy Council Team Trivia Fundraiser
DESCRIPTION:Join us for an evening of fun-filled trivia to provide free English classes for adults in Chelan and Douglas Counties! Register a team of up to six. Or\, register solo\, as a couple\, or as a small group and get matched with teammates that night. Prizes for the top team!
X-ALT-DESC;FMTTYPE=text/html:Join us for an evening of fun-filled trivia to provide free English classes for adults in Chelan and Douglas Counties! Register a team of up to six. Or\, register solo\, as a couple\, or as a small group and get matched with teammates that night. Prizes for the top team!
LOCATION:Online
UID:e.289.7827
SEQUENCE:3
DTSTAMP:20260422T183359Z
URL:https://business.wenatchee.org/events/details/literacy-council-team-trivia-fundraiser-7827
END:VEVENT

END:VCALENDAR
