BEGIN:VCALENDAR
VERSION:2.0
PRODID:-//ChamberMaster//Event Calendar 2.0//EN
METHOD:PUBLISH
X-PUBLISHED-TTL:P3D
REFRESH-INTERVAL:P3D
CALSCALE:GREGORIAN
BEGIN:VEVENT
DTSTART:20200307T013000Z
DTEND:20200307T043000Z
X-MICROSOFT-CDO-ALLDAYEVENT:FALSE
SUMMARY:Literacy Council Team Trivia & Auction Fundraiser
DESCRIPTION:What's a four-letter word that's spelled the same upside down and right side up? Join the Literacy Council of Chelan and Douglas Counties for its first ever Team Trivia Fundraiser to compete in an evening of word-themed trivia! Ticket includes dinner by Ravenous Catering and a glass of beer or wine (21+). Teams of eight will compete\; smaller groups are welcome to register and will be combined. This event supports free English classes for adults in the Wenatchee valley.
X-ALT-DESC;FMTTYPE=text/html:What&rsquo\;s a four-letter word that&rsquo\;s spelled the same upside down and right side up? Join the Literacy Council of Chelan and Douglas Counties for its first ever Team Trivia Fundraiser to compete in an evening of word-themed trivia! Ticket includes dinner by Ravenous Catering and a glass of beer or wine (21+). Teams of eight will compete\; smaller groups are welcome to register and will be combined. This event supports free English classes for adults in the Wenatchee valley.
LOCATION:Pybus Public Market
UID:e.289.7687
SEQUENCE:3
DTSTAMP:20260425T033605Z
URL:https://business.wenatchee.org/events/details/literacy-council-team-trivia-auction-fundraiser-7687
END:VEVENT

END:VCALENDAR
